BEGIN:VCALENDAR
VERSION:2.0
PRODID:-//Focales
CALSCALE:GREGORIAN
METHOD:PUBLISH
X-WR-CALNAME:Focales
X-ORIGINAL-URL:https://focales.org/le-rendez-vous-du-fil-1-2/
X-WR-CALDESC:Le rendez-vous du Fil #2
BEGIN:VEVENT
DTSTART:20211207T093000
DTEND:20211207T120000
SUMMARY:Le rendez-vous du Fil #2
DESCRIPTION:
LOCATION:
END:VEVENT
END:VCALENDAR
