BEGIN:VCALENDAR
VERSION:2.0
PRODID:-//Focales
CALSCALE:GREGORIAN
METHOD:PUBLISH
X-WR-CALNAME:Focales
X-ORIGINAL-URL:https://focales.org/passeurs-dimages-de-nature-bourbonnaise/
X-WR-CALDESC:De Nature Bourbonnaise EN PRÉSENCE DU RÉALISATEUR FFRANK PIZON
BEGIN:VEVENT
DTSTART:20211203T183000
DTEND:20211203T200000
SUMMARY:De Nature Bourbonnaise EN PRÉSENCE DU RÉALISATEUR FFRANK PIZON
DESCRIPTION:
LOCATION:CGR Moulins
END:VEVENT
END:VCALENDAR
