BEGIN:VCALENDAR
VERSION:2.0
PRODID:-//Focales
CALSCALE:GREGORIAN
METHOD:PUBLISH
X-WR-CALNAME:Focales
X-ORIGINAL-URL:https://focales.org/amphi-z-on-vit-ici-on-reste-ici-en-presence-de-jordane-burnot/
X-WR-CALDESC:AMPHI Z &#8211; ON VIT ICI, ON RESTE ICI ! EN PRÉSENCE DE JORDANE BURNOT
BEGIN:VEVENT
DTSTART:20211208T200000
DTEND:20211208T220000
SUMMARY:AMPHI Z &#8211; ON VIT ICI, ON RESTE ICI ! EN PRÉSENCE DE JORDANE BURNOT
DESCRIPTION:
LOCATION:Cinéma le Rio
END:VEVENT
END:VCALENDAR
