BEGIN:VCALENDAR
VERSION:2.0
PRODID:-//Focales
CALSCALE:GREGORIAN
METHOD:PUBLISH
X-WR-CALNAME:Focales
X-ORIGINAL-URL:https://focales.org/projection-ne-nous-racontez-plus-dhistoires/
X-WR-CALDESC:NE NOUS RACONTEZ PLUS D’HISTOIRES EN PRÉSENCE DE FERHAT MOUHALI ET CAROLE FILIU
BEGIN:VEVENT
DTSTART:20211209T200000
DTEND:20211209T220000
SUMMARY:NE NOUS RACONTEZ PLUS D’HISTOIRES EN PRÉSENCE DE FERHAT MOUHALI ET CAROLE FILIU
DESCRIPTION:
LOCATION:Cinéma le Rio
END:VEVENT
END:VCALENDAR
