BEGIN:VCALENDAR
VERSION:2.0
PRODID:-//Focales
CALSCALE:GREGORIAN
METHOD:PUBLISH
X-WR-CALNAME:Focales
X-ORIGINAL-URL:https://focales.org/courts-particuliers-les-indes-galantes/
X-WR-CALDESC:COURTS PARTICULIERS : LES INDES GALANTES
BEGIN:VEVENT
DTSTART:20211207T183000
DTEND:20211207T193000
SUMMARY:COURTS PARTICULIERS : LES INDES GALANTES
DESCRIPTION:
LOCATION:6 place Michel-de-l'Hospital 63058 Clermont-Ferrand
END:VEVENT
END:VCALENDAR
