BEGIN:VCALENDAR
VERSION:2.0
PRODID:-//Focales
CALSCALE:GREGORIAN
METHOD:PUBLISH
X-WR-CALNAME:Focales
X-ORIGINAL-URL:https://focales.org/carte-blanche-au-festival-cinema-du-reel/
X-WR-CALDESC:CARTE BLANCHE AU FESTIVAL CINÉMA DU RÉEL
BEGIN:VEVENT
DTSTART:20211208T180000
DTEND:20211208T190000
SUMMARY:CARTE BLANCHE AU FESTIVAL CINÉMA DU RÉEL
DESCRIPTION:
LOCATION:Centre de documentation de La Jetée
END:VEVENT
END:VCALENDAR
