BEGIN:VCALENDAR
VERSION:2.0
PRODID:-//Focales
CALSCALE:GREGORIAN
METHOD:PUBLISH
X-WR-CALNAME:Focales
X-ORIGINAL-URL:https://focales.org/youve-got-the-power-exposition/
X-WR-CALDESC:YOU&rsquo;VE GOT THE POWER! &#8211; EXPOSITION
BEGIN:VEVENT
DTSTART:20220122T140000
DTEND:20220205T190000
SUMMARY:YOU&rsquo;VE GOT THE POWER! &#8211; EXPOSITION
DESCRIPTION:
LOCATION:
END:VEVENT
END:VCALENDAR
