BEGIN:VCALENDAR
VERSION:2.0
PRODID:-//Focales
CALSCALE:GREGORIAN
METHOD:PUBLISH
X-WR-CALNAME:Focales
X-ORIGINAL-URL:https://focales.org/la-prisonniere-du-desert-en-presence-de-vivianne-perret/
X-WR-CALDESC:La prisonnière du désert en présence de Vivianne Perret
BEGIN:VEVENT
DTSTART:20220110T183000
DTEND:20220110T223000
SUMMARY:La prisonnière du désert en présence de Vivianne Perret
DESCRIPTION:
LOCATION:Cinéma Arcadia, Riom
END:VEVENT
END:VCALENDAR
