BEGIN:VCALENDAR
VERSION:2.0
PRODID:-//Focales
CALSCALE:GREGORIAN
METHOD:PUBLISH
X-WR-CALNAME:Focales
X-ORIGINAL-URL:https://focales.org/rencontres-video-amateurs/
X-WR-CALDESC:RENCONTRES VIDÉO AMATEURS
BEGIN:VEVENT
DTSTART:20210501T000000
DTEND:20210915T000000
SUMMARY:RENCONTRES VIDÉO AMATEURS
DESCRIPTION:
LOCATION:
END:VEVENT
END:VCALENDAR
