BEGIN:VCALENDAR
VERSION:2.0
PRODID:-//Focales
CALSCALE:GREGORIAN
METHOD:PUBLISH
X-WR-CALNAME:Focales
X-ORIGINAL-URL:https://focales.org/preac-image-matieres-et-creation-2/
X-WR-CALDESC:COMMENT LA REALITE AUGMENTEE PEUT-ELLE MODIFIER L’EXPERIENCE PERCEPTIVE ET SENSORIELLE DU SPECTATEUR ?
BEGIN:VEVENT
DTSTART:20220323T090000
DTEND:20220323T170000
SUMMARY:COMMENT LA REALITE AUGMENTEE PEUT-ELLE MODIFIER L’EXPERIENCE PERCEPTIVE ET SENSORIELLE DU SPECTATEUR ?
DESCRIPTION:
LOCATION:La jetée, 6 place michel-de-l'hospital, 63058 Clermont-Ferrand
END:VEVENT
END:VCALENDAR
