BEGIN:VCALENDAR
VERSION:2.0
PRODID:-//Focales
CALSCALE:GREGORIAN
METHOD:PUBLISH
X-WR-CALNAME:Focales
X-ORIGINAL-URL:https://focales.org/les-mots-de-taj-en-presence-de-dominique-choisy/
X-WR-CALDESC:LES MOTS DE TAJ EN PRÉSENCE DE DOMINIQUE CHOISY
BEGIN:VEVENT
DTSTART:20220301T200000
DTEND:20220301T223000
SUMMARY:LES MOTS DE TAJ EN PRÉSENCE DE DOMINIQUE CHOISY
DESCRIPTION:
LOCATION:178, rue Sous les Vignes 63100 Clermont-Ferrand
END:VEVENT
END:VCALENDAR
