BEGIN:VCALENDAR
VERSION:2.0
PRODID:-//Focales
CALSCALE:GREGORIAN
METHOD:PUBLISH
X-WR-CALNAME:Focales
X-ORIGINAL-URL:https://focales.org/lempire-du-silence-en-presence-de-thierry-michel/
X-WR-CALDESC:L&rsquo;EMPIRE DU SILENCE EN PRÉSENCE DE THIERRY MICHEL
BEGIN:VEVENT
DTSTART:20220318T193000
DTEND:20220318T223000
SUMMARY:L&rsquo;EMPIRE DU SILENCE EN PRÉSENCE DE THIERRY MICHEL
DESCRIPTION:
LOCATION:178, rue Sous les Vignes 63100 Clermont-Ferrand
END:VEVENT
END:VCALENDAR
