BEGIN:VCALENDAR
VERSION:2.0
PRODID:-//Focales
CALSCALE:GREGORIAN
METHOD:PUBLISH
X-WR-CALNAME:Focales
X-ORIGINAL-URL:https://focales.org/courts-particuliers-chris-marker/
X-WR-CALDESC:COURTS PARTICULIERS : LA JETÉE DE CHRIS MARKER
BEGIN:VEVENT
DTSTART:20220317T183000
DTEND:20220317T193000
SUMMARY:COURTS PARTICULIERS : LA JETÉE DE CHRIS MARKER
DESCRIPTION:
LOCATION:6 place Michel-de-l'Hospital 63058 Clermont-Ferrand
END:VEVENT
END:VCALENDAR
