BEGIN:VCALENDAR
VERSION:2.0
PRODID:-//Focales
CALSCALE:GREGORIAN
METHOD:PUBLISH
X-WR-CALNAME:Focales
X-ORIGINAL-URL:https://focales.org/festival-du-court-metrage-au-puy-de-dome/
X-WR-CALDESC:COURTS MÉTRAGES AU PUY DE DÔME
BEGIN:VEVENT
DTSTART:20150723T213000
DTEND:20150723T233000
SUMMARY:COURTS MÉTRAGES AU PUY DE DÔME
DESCRIPTION:
LOCATION:Sommet du Puy de Dôme, Orcines, France
END:VEVENT
END:VCALENDAR
