BEGIN:VCALENDAR
VERSION:2.0
PRODID:-//Focales
CALSCALE:GREGORIAN
METHOD:PUBLISH
X-WR-CALNAME:Focales
X-ORIGINAL-URL:https://focales.org/courts-particuliers-stretching-de-francois-vogel-par-antoine-lopez/
X-WR-CALDESC:COURTS PARTICULIERS : STRETCHING DE FRANÇOIS VOGEL PAR ANTOINE LOPEZ
BEGIN:VEVENT
DTSTART:20220414T183000
DTEND:20220414T193000
SUMMARY:COURTS PARTICULIERS : STRETCHING DE FRANÇOIS VOGEL PAR ANTOINE LOPEZ
DESCRIPTION:
LOCATION:6 place Michel-de-l'Hospital 63058 Clermont-Ferrand
END:VEVENT
END:VCALENDAR
