BEGIN:VCALENDAR
VERSION:2.0
PRODID:-//Focales
CALSCALE:GREGORIAN
METHOD:PUBLISH
X-WR-CALNAME:Focales
X-ORIGINAL-URL:https://focales.org/courts-particuliers-eut-elle-ete-criminelle-par-gilles-berger/
X-WR-CALDESC:COURTS PARTICULIERS : EUT-ELLE ÉTÉ CRIMINELLE PAR GILLES BERGER
BEGIN:VEVENT
DTSTART:20220511T183000
DTEND:20220511T193000
SUMMARY:COURTS PARTICULIERS : EUT-ELLE ÉTÉ CRIMINELLE PAR GILLES BERGER
DESCRIPTION:
LOCATION:6 place Michel-de-l'Hospital 63058 Clermont-Ferrand
END:VEVENT
END:VCALENDAR
