BEGIN:VCALENDAR
VERSION:2.0
PRODID:-//Focales
CALSCALE:GREGORIAN
METHOD:PUBLISH
X-WR-CALNAME:Focales
X-ORIGINAL-URL:https://focales.org/tropique-de-la-violence-en-presence-de-manuel-schapira/
X-WR-CALDESC:TROPIQUE DE LA VIOLENCE EN PRÉSENCE DE MANUEL SCHAPIRA
BEGIN:VEVENT
DTSTART:20220331T200000
DTEND:20220331T230000
SUMMARY:TROPIQUE DE LA VIOLENCE EN PRÉSENCE DE MANUEL SCHAPIRA
DESCRIPTION:
LOCATION:
END:VEVENT
END:VCALENDAR
