BEGIN:VCALENDAR
VERSION:2.0
PRODID:-//Focales
CALSCALE:GREGORIAN
METHOD:PUBLISH
X-WR-CALNAME:Focales
X-ORIGINAL-URL:https://focales.org/festival-plein-la-bobine-2022/
X-WR-CALDESC:FESTIVAL PLEIN LA BOBINE 2022
BEGIN:VEVENT
DTSTART:20220509T080000
DTEND:20220520T180000
SUMMARY:FESTIVAL PLEIN LA BOBINE 2022
DESCRIPTION:
LOCATION:
END:VEVENT
END:VCALENDAR
