BEGIN:VCALENDAR
VERSION:2.0
PRODID:-//Focales
CALSCALE:GREGORIAN
METHOD:PUBLISH
X-WR-CALNAME:Focales
X-ORIGINAL-URL:https://focales.org/seule-la-terrre-est-eternelle-en-presence-du-realisateur-francois-brusnel/
X-WR-CALDESC:SEULE LA TERRRE EST ETERNELLE EN PRÉSENCE DU RÉALISATEUR FRANÇOIS BRUSNEL
BEGIN:VEVENT
DTSTART:20220326T190000
DTEND:20220326T220000
SUMMARY:SEULE LA TERRRE EST ETERNELLE EN PRÉSENCE DU RÉALISATEUR FRANÇOIS BRUSNEL
DESCRIPTION:
LOCATION:
END:VEVENT
END:VCALENDAR
