BEGIN:VCALENDAR
VERSION:2.0
PRODID:-//Focales
CALSCALE:GREGORIAN
METHOD:PUBLISH
X-WR-CALNAME:Focales
X-ORIGINAL-URL:https://focales.org/semaine-du-cinema-hispanique/
X-WR-CALDESC:SEMAINE DU CINÉMA HISPANIQUE
BEGIN:VEVENT
DTSTART:20220401T000000
DTEND:20220408T230000
SUMMARY:SEMAINE DU CINÉMA HISPANIQUE
DESCRIPTION:
LOCATION:
END:VEVENT
END:VCALENDAR
