BEGIN:VCALENDAR
VERSION:2.0
PRODID:-//Focales
CALSCALE:GREGORIAN
METHOD:PUBLISH
X-WR-CALNAME:Focales
X-ORIGINAL-URL:https://focales.org/palestine-48-en-presence-du-realisateur/
X-WR-CALDESC:PALESTINE 48 EN PRÉSENCE DU RÉALISATEUR
BEGIN:VEVENT
DTSTART:20220405T200000
DTEND:20220405T223000
SUMMARY:PALESTINE 48 EN PRÉSENCE DU RÉALISATEUR
DESCRIPTION:
LOCATION: 178 rue Sous les Vignes Clermont-Ferrand, 63100 France 
END:VEVENT
END:VCALENDAR
