BEGIN:VCALENDAR
VERSION:2.0
PRODID:-//Focales
CALSCALE:GREGORIAN
METHOD:PUBLISH
X-WR-CALNAME:Focales
X-ORIGINAL-URL:https://focales.org/soy-libre-en-presence-de-la-realisatrice-laure-portier/
X-WR-CALDESC:SOY LIBRE EN PRÉSENCE DE LA RÉALISATRICE LAURE PORTIER
BEGIN:VEVENT
DTSTART:20220408T200000
DTEND:20220408T220000
SUMMARY:SOY LIBRE EN PRÉSENCE DE LA RÉALISATRICE LAURE PORTIER
DESCRIPTION:
LOCATION:
END:VEVENT
END:VCALENDAR
