BEGIN:VCALENDAR
VERSION:2.0
PRODID:-//Focales
CALSCALE:GREGORIAN
METHOD:PUBLISH
X-WR-CALNAME:Focales
X-ORIGINAL-URL:https://focales.org/les-medias-voient-jaune-en-presence-du-realisateur-christophe-bedrossian/
X-WR-CALDESC:LES MÉDIAS VOIENT JAUNE EN PRÉSENCE DU RÉALISATEUR CHRISTOPHE BEDROSSIAN
BEGIN:VEVENT
DTSTART:20220414T200000
DTEND:20220414T220000
SUMMARY:LES MÉDIAS VOIENT JAUNE EN PRÉSENCE DU RÉALISATEUR CHRISTOPHE BEDROSSIAN
DESCRIPTION:
LOCATION:
END:VEVENT
END:VCALENDAR
