BEGIN:VCALENDAR
VERSION:2.0
PRODID:-//Focales
CALSCALE:GREGORIAN
METHOD:PUBLISH
X-WR-CALNAME:Focales
X-ORIGINAL-URL:https://focales.org/birds-of-america-en-presence-du-realisateur-jacques-loeuille/
X-WR-CALDESC:BIRDS OF AMERICA EN PRÉSENCE DU RÉALISATEUR JACQUES LOEUILLE
BEGIN:VEVENT
DTSTART:20220412T200000
DTEND:20220412T230000
SUMMARY:BIRDS OF AMERICA EN PRÉSENCE DU RÉALISATEUR JACQUES LOEUILLE
DESCRIPTION:
LOCATION:Cinéma le Rio, Clermont-Ferrand
END:VEVENT
END:VCALENDAR
