BEGIN:VCALENDAR
VERSION:2.0
PRODID:-//Focales
CALSCALE:GREGORIAN
METHOD:PUBLISH
X-WR-CALNAME:Focales
X-ORIGINAL-URL:https://focales.org/realite-virtuelle-2/
X-WR-CALDESC:RÉALITÉ VIRTUELLE
BEGIN:VEVENT
DTSTART:20220420T140000
DTEND:20220421T180000
SUMMARY:RÉALITÉ VIRTUELLE
DESCRIPTION:
LOCATION:
END:VEVENT
END:VCALENDAR
