BEGIN:VCALENDAR
VERSION:2.0
PRODID:-//Focales
CALSCALE:GREGORIAN
METHOD:PUBLISH
X-WR-CALNAME:Focales
X-ORIGINAL-URL:https://focales.org/du-studio-au-plateau/
X-WR-CALDESC:DU STUDIO AU PLATEAU
BEGIN:VEVENT
DTSTART:20220407T183000
DTEND:20220430T190000
SUMMARY:DU STUDIO AU PLATEAU
DESCRIPTION:
LOCATION:Centre Camille Claudel, Clermont-Ferrand
END:VEVENT
END:VCALENDAR
