BEGIN:VCALENDAR
VERSION:2.0
PRODID:-//Focales
CALSCALE:GREGORIAN
METHOD:PUBLISH
X-WR-CALNAME:Focales
X-ORIGINAL-URL:https://focales.org/nuit-de-limage-europeenne/
X-WR-CALDESC:2e NUIT DE L&rsquo;IMAGE EUROPÉENNE
BEGIN:VEVENT
DTSTART:20220521T160000
DTEND:20220521T230000
SUMMARY:2e NUIT DE L&rsquo;IMAGE EUROPÉENNE
DESCRIPTION:
LOCATION:Boulevard François Mitterrand, Av. Vercingétorix, 63000 Clermont-Ferrand
END:VEVENT
END:VCALENDAR
