BEGIN:VCALENDAR
VERSION:2.0
PRODID:-//Focales
CALSCALE:GREGORIAN
METHOD:PUBLISH
X-WR-CALNAME:Focales
X-ORIGINAL-URL:https://focales.org/les-rencontres-professionnelles-du-collimateur/
X-WR-CALDESC:LES RENCONTRES PROFESSIONNELLES DU COLLIMATEUR
BEGIN:VEVENT
DTSTART:20220510T093000
DTEND:20220510T160000
SUMMARY:LES RENCONTRES PROFESSIONNELLES DU COLLIMATEUR
DESCRIPTION:
LOCATION:
END:VEVENT
END:VCALENDAR
