BEGIN:VCALENDAR
VERSION:2.0
PRODID:-//Focales
CALSCALE:GREGORIAN
METHOD:PUBLISH
X-WR-CALNAME:Focales
X-ORIGINAL-URL:https://focales.org/somos-cuba-en-presence-du-realisateur/
X-WR-CALDESC:SOMOS CUBA EN PRÉSENCE DU RÉALISATEUR
BEGIN:VEVENT
DTSTART:20220512T200000
DTEND:20220512T220000
SUMMARY:SOMOS CUBA EN PRÉSENCE DU RÉALISATEUR
DESCRIPTION:
LOCATION:Cinéma Le Rio
END:VEVENT
END:VCALENDAR
