BEGIN:VCALENDAR
VERSION:2.0
PRODID:-//Focales
CALSCALE:GREGORIAN
METHOD:PUBLISH
X-WR-CALNAME:Focales
X-ORIGINAL-URL:https://focales.org/fils-de-garches-en-presence-du-realisateur/
X-WR-CALDESC:FILS DE GARCHES EN PRÉSENCE DU RÉALISATEUR
BEGIN:VEVENT
DTSTART:20220514T200000
DTEND:20220514T220000
SUMMARY:FILS DE GARCHES EN PRÉSENCE DU RÉALISATEUR
DESCRIPTION:
LOCATION:Cinéma Le Rio
END:VEVENT
END:VCALENDAR
