BEGIN:VCALENDAR
VERSION:2.0
PRODID:-//Focales
CALSCALE:GREGORIAN
METHOD:PUBLISH
X-WR-CALNAME:Focales
X-ORIGINAL-URL:https://focales.org/restitution-choeur-creation/
X-WR-CALDESC:RESTITUTION : CHOEUR CRÉATION
BEGIN:VEVENT
DTSTART:20220602T150000
DTEND:20220602T170000
SUMMARY:RESTITUTION : CHOEUR CRÉATION
DESCRIPTION:
LOCATION:
END:VEVENT
END:VCALENDAR
