BEGIN:VCALENDAR
VERSION:2.0
PRODID:-//Focales
CALSCALE:GREGORIAN
METHOD:PUBLISH
X-WR-CALNAME:Focales
X-ORIGINAL-URL:https://focales.org/avant-premiere-belladones-en-presence-de-la-realisatrice/
X-WR-CALDESC:AVANT PREMIERE &#8211; BELLADONES EN PRÉSENCE DE LA RÉALISATRICE
BEGIN:VEVENT
DTSTART:20220521T180000
DTEND:20220521T200000
SUMMARY:AVANT PREMIERE &#8211; BELLADONES EN PRÉSENCE DE LA RÉALISATRICE
DESCRIPTION:
LOCATION:
END:VEVENT
END:VCALENDAR
