BEGIN:VCALENDAR
VERSION:2.0
PRODID:-//Focales
CALSCALE:GREGORIAN
METHOD:PUBLISH
X-WR-CALNAME:Focales
X-ORIGINAL-URL:https://focales.org/plein-air-kaamelott-premier-volet-2/
X-WR-CALDESC:PLEIN AIR KAAMELOTT PREMIER VOLET
BEGIN:VEVENT
DTSTART:20220721T220000
DTEND:20220721T000000
SUMMARY:PLEIN AIR KAAMELOTT PREMIER VOLET
DESCRIPTION:
LOCATION:Stade des Pérouses 63540 Romagnat
END:VEVENT
END:VCALENDAR
