BEGIN:VCALENDAR
VERSION:2.0
PRODID:-//Focales
CALSCALE:GREGORIAN
METHOD:PUBLISH
X-WR-CALNAME:Focales
X-ORIGINAL-URL:https://focales.org/plein-air-enorme/
X-WR-CALDESC:PLEIN AIR ÉNORME
BEGIN:VEVENT
DTSTART:20220811T213000
DTEND:20220811T230000
SUMMARY:PLEIN AIR ÉNORME
DESCRIPTION:
LOCATION:03800 Jenzat
END:VEVENT
END:VCALENDAR
