BEGIN:VCALENDAR
VERSION:2.0
PRODID:-//Focales
CALSCALE:GREGORIAN
METHOD:PUBLISH
X-WR-CALNAME:Focales
X-ORIGINAL-URL:https://focales.org/plein-air-retour-vers-le-futur/
X-WR-CALDESC:PLEIN AIR RETOUR VERS LE FUTUR
BEGIN:VEVENT
DTSTART:20220707T220000
DTEND:20220707T000000
SUMMARY:PLEIN AIR RETOUR VERS LE FUTUR
DESCRIPTION:
LOCATION:La Glacière 63100 Clermont-Ferrand
END:VEVENT
END:VCALENDAR
