BEGIN:VCALENDAR
VERSION:2.0
PRODID:-//Focales
CALSCALE:GREGORIAN
METHOD:PUBLISH
X-WR-CALNAME:Focales
X-ORIGINAL-URL:https://focales.org/plein-air-tous-en-scene/
X-WR-CALDESC:PLEIN AIR TOUS EN SCÈNE
BEGIN:VEVENT
DTSTART:20220708T220000
DTEND:20220708T000000
SUMMARY:PLEIN AIR TOUS EN SCÈNE
DESCRIPTION:
LOCATION:Parc de l'écluse Rue Tourrette 63100 Clermont-Ferrand
END:VEVENT
END:VCALENDAR
