BEGIN:VCALENDAR
VERSION:2.0
PRODID:-//Focales
CALSCALE:GREGORIAN
METHOD:PUBLISH
X-WR-CALNAME:Focales
X-ORIGINAL-URL:https://focales.org/candidature-residence-dartiste-en-milieu-scolaire/
X-WR-CALDESC:CANDIDATURE RÉSIDENCE D&rsquo;ARTISTE EN MILIEU SCOLAIRE
BEGIN:VEVENT
DTSTART:20220530T000000
DTEND:20220701T000000
SUMMARY:CANDIDATURE RÉSIDENCE D&rsquo;ARTISTE EN MILIEU SCOLAIRE
DESCRIPTION:
LOCATION:Clermont Ferrand
END:VEVENT
END:VCALENDAR
