BEGIN:VCALENDAR
VERSION:2.0
PRODID:-//Focales
CALSCALE:GREGORIAN
METHOD:PUBLISH
X-WR-CALNAME:Focales
X-ORIGINAL-URL:https://focales.org/plein-air-dilili-a-paris/
X-WR-CALDESC:PLEIN AIR DILILI À PARIS
BEGIN:VEVENT
DTSTART:20220711T220000
DTEND:20220711T233000
SUMMARY:PLEIN AIR DILILI À PARIS
DESCRIPTION:
LOCATION:63 Rue d'Aulteribe 63100 Clermont-Ferrand
END:VEVENT
END:VCALENDAR
