BEGIN:VCALENDAR
VERSION:2.0
PRODID:-//Focales
CALSCALE:GREGORIAN
METHOD:PUBLISH
X-WR-CALNAME:Focales
X-ORIGINAL-URL:https://focales.org/plein-air-alice-au-pays-des-merveilles/
X-WR-CALDESC:PLEIN AIR ALICE AU PAYS DES MERVEILLES
BEGIN:VEVENT
DTSTART:20220829T211500
DTEND:
SUMMARY:PLEIN AIR ALICE AU PAYS DES MERVEILLES
DESCRIPTION:
LOCATION:5 boulevard Winston Churchill, Clermont-Ferrand
END:VEVENT
END:VCALENDAR
