BEGIN:VCALENDAR
VERSION:2.0
PRODID:-//Focales
CALSCALE:GREGORIAN
METHOD:PUBLISH
X-WR-CALNAME:Focales
X-ORIGINAL-URL:https://focales.org/plein-air-les-goonies/
X-WR-CALDESC:PLEIN AIR LES GOONIES
BEGIN:VEVENT
DTSTART:20220817T213000
DTEND:20220817T233000
SUMMARY:PLEIN AIR LES GOONIES
DESCRIPTION:
LOCATION:
END:VEVENT
END:VCALENDAR
