BEGIN:VCALENDAR
VERSION:2.0
PRODID:-//Focales
CALSCALE:GREGORIAN
METHOD:PUBLISH
X-WR-CALNAME:Focales
X-ORIGINAL-URL:https://focales.org/plein-air/
X-WR-CALDESC:PLEIN AIR
BEGIN:VEVENT
DTSTART:20220826T213000
DTEND:20220826T000000
SUMMARY:PLEIN AIR
DESCRIPTION:
LOCATION:Pl. de L Hôtel de ville, 63430 Pont-du-Château
END:VEVENT
END:VCALENDAR
