BEGIN:VCALENDAR
VERSION:2.0
PRODID:-//Focales
CALSCALE:GREGORIAN
METHOD:PUBLISH
X-WR-CALNAME:Focales
X-ORIGINAL-URL:https://focales.org/plein-air-le-sens-de-la-famille/
X-WR-CALDESC:PLEIN AIR LE SENS DE LA FAMILLE
BEGIN:VEVENT
DTSTART:20220709T220000
DTEND:20220709T234500
SUMMARY:PLEIN AIR LE SENS DE LA FAMILLE
DESCRIPTION:
LOCATION:2 Rue du Grillon, 63118 Cébazat
END:VEVENT
END:VCALENDAR
