BEGIN:VCALENDAR
VERSION:2.0
PRODID:-//Focales
CALSCALE:GREGORIAN
METHOD:PUBLISH
X-WR-CALNAME:Focales
X-ORIGINAL-URL:https://focales.org/ni-dieu-ni-maitre-en-presence-du-realisateur-tancrede-ramonet/
X-WR-CALDESC:NI DIEU NI MAÎTRE EN PRÉSENCE DU RÉALISATEUR TANCRÈDE RAMONET
BEGIN:VEVENT
DTSTART:20220608T200000
DTEND:20220608T220000
SUMMARY:NI DIEU NI MAÎTRE EN PRÉSENCE DU RÉALISATEUR TANCRÈDE RAMONET
DESCRIPTION:
LOCATION:Cinéma le Rio
END:VEVENT
END:VCALENDAR
