BEGIN:VCALENDAR
VERSION:2.0
PRODID:-//Focales
CALSCALE:GREGORIAN
METHOD:PUBLISH
X-WR-CALNAME:Focales
X-ORIGINAL-URL:https://focales.org/plein-air-une-belle-equipe-4/
X-WR-CALDESC:PLEIN AIR UNE BELLE ÉQUIPE
BEGIN:VEVENT
DTSTART:20220730T220000
DTEND:20220730T234500
SUMMARY:PLEIN AIR UNE BELLE ÉQUIPE
DESCRIPTION:
LOCATION:3 lieu-dit, Les Petites Molles, 63300 Thiers
END:VEVENT
END:VCALENDAR
