BEGIN:VCALENDAR
VERSION:2.0
PRODID:-//Focales
CALSCALE:GREGORIAN
METHOD:PUBLISH
X-WR-CALNAME:Focales
X-ORIGINAL-URL:https://focales.org/plein-air-fahim/
X-WR-CALDESC:PLEIN AIR FAHIM
BEGIN:VEVENT
DTSTART:20220803T213000
DTEND:20220803T231500
SUMMARY:PLEIN AIR FAHIM
DESCRIPTION:
LOCATION:Av. Béranger 63300 Thiers
END:VEVENT
END:VCALENDAR
