BEGIN:VCALENDAR
VERSION:2.0
PRODID:-//Focales
CALSCALE:GREGORIAN
METHOD:PUBLISH
X-WR-CALNAME:Focales
X-ORIGINAL-URL:https://focales.org/seances-de-cinema-en-plein-air/
X-WR-CALDESC:LES CONTRE-PLONGÉES
BEGIN:VEVENT
DTSTART:20220719T220000
DTEND:20220809T234500
SUMMARY:LES CONTRE-PLONGÉES
DESCRIPTION:
LOCATION:Jardin Lecoq, boulevard François Mitterrand, Avenue Vercingétorix, 63000 Clermont-Ferrand
END:VEVENT
END:VCALENDAR
