BEGIN:VCALENDAR
VERSION:2.0
PRODID:-//Focales
CALSCALE:GREGORIAN
METHOD:PUBLISH
X-WR-CALNAME:Focales
X-ORIGINAL-URL:https://focales.org/inscriptions-lyceens-et-apprentis-au-cinema/
X-WR-CALDESC:INSCRIPTIONS AU DISPOSITIF LYCEENS ET APPRENTIS AU CINEMA
BEGIN:VEVENT
DTSTART:20220826T080000
DTEND:20220927T234500
SUMMARY:INSCRIPTIONS AU DISPOSITIF LYCEENS ET APPRENTIS AU CINEMA
DESCRIPTION:
LOCATION:
END:VEVENT
END:VCALENDAR
