BEGIN:VCALENDAR
VERSION:2.0
PRODID:-//Focales
CALSCALE:GREGORIAN
METHOD:PUBLISH
X-WR-CALNAME:Focales
X-ORIGINAL-URL:https://focales.org/nouvelles-terriennes-programme-de-courts-metrages/
X-WR-CALDESC:NOUVELLES TERRIENNES &#8211; PROGRAMME DE COURTS METRAGES
BEGIN:VEVENT
DTSTART:20221109T090000
DTEND:20221110T170000
SUMMARY:NOUVELLES TERRIENNES &#8211; PROGRAMME DE COURTS METRAGES
DESCRIPTION:
LOCATION:La Jetée, Clermont-Ferrand
END:VEVENT
END:VCALENDAR
