BEGIN:VCALENDAR
VERSION:2.0
PRODID:-//Focales
CALSCALE:GREGORIAN
METHOD:PUBLISH
X-WR-CALNAME:Focales
X-ORIGINAL-URL:https://focales.org/panique-de-jean-duvivier/
X-WR-CALDESC:PANIQUE DE JEAN DUVIVIER
BEGIN:VEVENT
DTSTART:20230110T090000
DTEND:20230111T170000
SUMMARY:PANIQUE DE JEAN DUVIVIER
DESCRIPTION:
LOCATION:La Jetée, Clermont-Ferrand
END:VEVENT
END:VCALENDAR
