BEGIN:VCALENDAR
VERSION:2.0
PRODID:-//Focales
CALSCALE:GREGORIAN
METHOD:PUBLISH
X-WR-CALNAME:Focales
X-ORIGINAL-URL:https://focales.org/maternelle-au-cinema-presentation-du-dispositif/
X-WR-CALDESC:CINEMATERNELLE &#8211; PRESENTATION DU DISPOSITIF
BEGIN:VEVENT
DTSTART:20221019T133000
DTEND:20221019T163000
SUMMARY:CINEMATERNELLE &#8211; PRESENTATION DU DISPOSITIF
DESCRIPTION:
LOCATION:Maison du Parc, Saint-Gervais-sous-Meymont
END:VEVENT
END:VCALENDAR
